BEGIN:VCALENDAR
VERSION:2.0
PRODID:GlueUp
CALSCALE:GREGORIAN
BEGIN:VTIMEZONE
TZID:UTC
BEGIN:STANDARD
DTSTART:19700101T000000
TZOFFSETFROM:+0000
TZOFFSETTO:+0000
TZNAME:UTC
END:STANDARD
END:VTIMEZONE
BEGIN:VEVENT
TZ:+00
ORGANIZER;CN=Дробницкая Кристина:MAILTO:kristina@midexpo.org
UID:5045-1776850513@https://midexpo.glueup.ru
DTSTAMP:20260422T093513Z
DTSTART:20251112T070000Z
DTEND:20251112T150000Z
SUMMARY:HI-TECH BUILDING Санкт-Петербург 2025
DESCRIPTION:"HI-TECH BUILDING Санкт-Петербург 2025" организовано "MIDEXPO"\n\nНоя 12 2025 (10:00 - 18:00)(GMT+3)\n\nДля получения дополнительной информации нажмите здесь: https://midexpo.glueup.ru/my/events/5045
LOCATION:Конгрессный центр ПетроКонгресс - Лодейнопольская улица 5 Санкт-Петербург - Российская Федерация
BEGIN:VALARM
TRIGGER:-PT48H
REPEAT:4
DURATION:PT30M
ACTION:DISPLAY
END:VALARM
END:VEVENT
END:VCALENDAR