BEGIN:VCALENDAR
VERSION:2.0
PRODID:GlueUp
CALSCALE:GREGORIAN
BEGIN:VTIMEZONE
TZID:UTC
BEGIN:STANDARD
DTSTART:19700101T000000
TZOFFSETFROM:+0000
TZOFFSETTO:+0000
TZNAME:UTC
END:STANDARD
END:VTIMEZONE
BEGIN:VEVENT
TZ:+00
ORGANIZER;CN=Дробницкая Кристина:MAILTO:kristina@midexpo.org
UID:2089-1776816307@https://midexpo.glueup.ru
DTSTAMP:20260422T000507Z
DTSTART:20221013T070000Z
DTEND:20221016T150000Z
SUMMARY:PROINTEGRATION TECH 2022
DESCRIPTION:"PROINTEGRATION TECH 2022" организовано "MIDEXPO"\n\nОкт 13 - 16, 2022(GMT+3)\n\nДля получения дополнительной информации нажмите здесь: https://midexpo.glueup.ru/my/events/2089
LOCATION:отель "БОРОДИНО" - Русаковская ул. - 13 - с.5 Москва - Российская Федерация
BEGIN:VALARM
TRIGGER:-PT48H
REPEAT:4
DURATION:PT30M
ACTION:DISPLAY
END:VALARM
END:VEVENT
END:VCALENDAR